BEGIN:VCALENDAR
VERSION:2.0
PRODID:-//Rustic River Winery &amp; Vineyard - ECPv6.15.20//NONSGML v1.0//EN
CALSCALE:GREGORIAN
METHOD:PUBLISH
X-WR-CALNAME:Rustic River Winery &amp; Vineyard
X-ORIGINAL-URL:https://rusticriverwinery.com
X-WR-CALDESC:Events for Rustic River Winery &amp; Vineyard
REFRESH-INTERVAL;VALUE=DURATION:PT1H
X-Robots-Tag:noindex
X-PUBLISHED-TTL:PT1H
BEGIN:VTIMEZONE
TZID:America/Chicago
BEGIN:DAYLIGHT
TZOFFSETFROM:-0600
TZOFFSETTO:-0500
TZNAME:CDT
DTSTART:20250309T080000
END:DAYLIGHT
BEGIN:STANDARD
TZOFFSETFROM:-0500
TZOFFSETTO:-0600
TZNAME:CST
DTSTART:20251102T070000
END:STANDARD
BEGIN:DAYLIGHT
TZOFFSETFROM:-0600
TZOFFSETTO:-0500
TZNAME:CDT
DTSTART:20260308T080000
END:DAYLIGHT
BEGIN:STANDARD
TZOFFSETFROM:-0500
TZOFFSETTO:-0600
TZNAME:CST
DTSTART:20261101T070000
END:STANDARD
BEGIN:DAYLIGHT
TZOFFSETFROM:-0600
TZOFFSETTO:-0500
TZNAME:CDT
DTSTART:20270314T080000
END:DAYLIGHT
BEGIN:STANDARD
TZOFFSETFROM:-0500
TZOFFSETTO:-0600
TZNAME:CST
DTSTART:20271107T070000
END:STANDARD
END:VTIMEZONE
BEGIN:VEVENT
DTSTART;VALUE=DATE:20260509
DTEND;VALUE=DATE:20260510
DTSTAMP:20260419T220330
CREATED:20260328T214901Z
LAST-MODIFIED:20260328T214901Z
UID:1010-1778284800-1778371199@rusticriverwinery.com
SUMMARY:CLOSED for a Graduation
DESCRIPTION:
URL:https://rusticriverwinery.com/event/closed-for-a-graduation/
END:VEVENT
BEGIN:VEVENT
DTSTART;VALUE=DATE:20260516
DTEND;VALUE=DATE:20260517
DTSTAMP:20260419T220330
CREATED:20260328T214935Z
LAST-MODIFIED:20260328T214935Z
UID:1012-1778889600-1778975999@rusticriverwinery.com
SUMMARY:CLOSED for a Graduation
DESCRIPTION:
URL:https://rusticriverwinery.com/event/closed-for-a-graduation-2/
END:VEVENT
BEGIN:VEVENT
DTSTART;VALUE=DATE:20260530
DTEND;VALUE=DATE:20260531
DTSTAMP:20260419T220330
CREATED:20260328T215051Z
LAST-MODIFIED:20260328T215051Z
UID:1014-1780099200-1780185599@rusticriverwinery.com
SUMMARY:CLOSED - Wedding
DESCRIPTION:
URL:https://rusticriverwinery.com/event/closed-wedding-2/
END:VEVENT
END:VCALENDAR